BEGIN:VCALENDAR
VERSION:2.0
PRODID:-//Vancouver Island Pickleball - ECPv6.15.20//NONSGML v1.0//EN
CALSCALE:GREGORIAN
METHOD:PUBLISH
X-ORIGINAL-URL:https://vancouverislandpickleball.ca
X-WR-CALDESC:Events for Vancouver Island Pickleball
REFRESH-INTERVAL;VALUE=DURATION:PT1H
X-Robots-Tag:noindex
X-PUBLISHED-TTL:PT1H
BEGIN:VTIMEZONE
TZID:UTC
BEGIN:STANDARD
TZOFFSETFROM:+0000
TZOFFSETTO:+0000
TZNAME:UTC
DTSTART:20230101T000000
END:STANDARD
END:VTIMEZONE
BEGIN:VTIMEZONE
TZID:Asia/Krasnoyarsk
BEGIN:STANDARD
TZOFFSETFROM:+0700
TZOFFSETTO:+0700
TZNAME:+07
DTSTART:20240101T000000
END:STANDARD
END:VTIMEZONE
BEGIN:VTIMEZONE
TZID:Asia/Dubai
BEGIN:STANDARD
TZOFFSETFROM:+0400
TZOFFSETTO:+0400
TZNAME:+04
DTSTART:20240101T000000
END:STANDARD
END:VTIMEZONE
BEGIN:VEVENT
DTSTART;TZID=UTC:20251017T080000
DTEND;TZID=UTC:20251219T170000
DTSTAMP:20260425T080957
CREATED:20250820T120747Z
LAST-MODIFIED:20250820T120747Z
UID:5316-1760688000-1766163600@vancouverislandpickleball.ca
SUMMARY:Forget-Me-Not Charity Tournament - BC Dementia Care Society 2025
DESCRIPTION:The BC Dementia Care Society is pleased to announce the Forget-Me-Not Charity Tournament\, October 17\, 18 and 19 at the Victoria Pickleball Centre.\n\nEarly Bird Pricing until September 29\n\n$60 with $20 per additional event\n\nRegular pricing after September 29\n\n$65 with $20 per additional event.\n\nYour player entrance fees will be waived if you donate or raise funds of $200 or more for BC Dementia Care Society. If you wish to go this option\, please use code IDONATED upon checkout. Donate at the site below within five days of registering\, or reach out for other options.\n\nTax receipts will be issued for all donations of $50+\n\nSkill divisions will be:\n\nFriday\, October 17\nMens Doubles 3.0 55+\nWomens Doubles 3.0 55+\nMens Doubles 3.5 55+\nWomens Doubles 3.5 55+\n\n\nSaturday\, October 18\nMen and Women’s Doubles 3.0\, 3.5\, 4.0\, OPEN\n\nSunday \, October 20\nMixed Doubles – 3.0\, 3.5\, 4.0\, OPEN\nMixed Doubles 55+ – 3.0. 3.5\, 4.0\n\nThe Tournament Director reserves the right to combine divisions or create additional divisions as required\, depending on registrations.\n\nTournament Director reserves the right to change start times based on registrations.\n\nPlease make sure to enable text message notifications under your pickleballbrackets.com account\, as this is the method to notify you of your next match!\n\nRegistration opens on August 26th at 8pm.
URL:https://vancouverislandpickleball.ca/event/forget-me-not-charity-tournament-bc-dementia-care-society-2025/
LOCATION:BC
CATEGORIES:Indoor Event
END:VEVENT
BEGIN:VEVENT
DTSTART;TZID=UTC:20250906T163000
DTEND;TZID=UTC:20250906T200000
DTSTAMP:20260425T080957
CREATED:20250820T121156Z
LAST-MODIFIED:20250820T121156Z
UID:5318-1757176200-1757188800@vancouverislandpickleball.ca
SUMMARY:PCPC Summer Social
DESCRIPTION:It’s that time again -our 2nd Annual Super Summer Social!! Signups open August 1st !! \nGet your tickets for a great time at the Sidney North Saanich Yacht Club\, with your choice of burgers\, salad\, fries\, soft drinks\, and the ever-popular cash bar. We will have a rockin’ play list to entertain you while you compete at bocce ball\, ladder toss\, and cornhole on the spacious lawn overlooking the water. Prizes will be the satisfaction of having fun off the court with your fellow members. \nAll club members and their plus ones are welcome\, please include your plus one in your reservation. \nThe event will start at 4:30 and will go until 8:00.\n$38/pp (taxes/gratuity included)\nAmple free parking available. \nMenu Choices (you will be asked to specify when you sign up):\nBeef Burger\, or\nChicken Burger\, or\nVeggie Burger \nFries\, or\nSalad\, or\nFries/Salad \nSoft drinks are included. There will be a cash bar for adult beverages.
URL:https://vancouverislandpickleball.ca/event/pcpc-summer-social/
LOCATION:Sidney & North Saanich Yacht Club\, 1949 Marina Way\,\, North Saanich\, BC\, V8L 4B9\, Canada
CATEGORIES:Indoor Event
END:VEVENT
BEGIN:VEVENT
DTSTART;TZID=UTC:20250829T080000
DTEND;TZID=UTC:20250831T170000
DTSTAMP:20260425T080957
CREATED:20250820T121515Z
LAST-MODIFIED:20250820T121515Z
UID:5321-1756454400-1756659600@vancouverislandpickleball.ca
SUMMARY:Salmon Capital Pickleball Classic
DESCRIPTION:The Campbell River Pickleball Association (CRPA) is pleased to host its 1st Indoor Pickleball tournament August 29-31\, 2025 at the Campbell River Sportsplex in Campbell River.\n\nThis is a Pickleball Canada sanctioned event therefore\, the Canadian Tournament Player Rating (CTPR) is the rating used to determine your eligibility for an event. All players must be members of Pickleball Canada.
URL:https://vancouverislandpickleball.ca/event/salmon-capital-pickleball-classic/
LOCATION:Campbell River Sportsplex\, 1800 S Alder St\, Campbell River\, BC\, V9W 7J1\, Canada
CATEGORIES:Indoor Event
END:VEVENT
BEGIN:VEVENT
DTSTART;TZID=UTC:20250823T170000
DTEND;TZID=UTC:20250823T200000
DTSTAMP:20260425T080957
CREATED:20250820T122318Z
LAST-MODIFIED:20250820T122318Z
UID:5328-1755968400-1755979200@vancouverislandpickleball.ca
SUMMARY:Pickle Part at Archie Browning
DESCRIPTION:
URL:https://vancouverislandpickleball.ca/event/pickle-part-at-archie-browning/
LOCATION:Archie Browning Arena\, 1151 Esquimalt Rd\, Victoria\, BC\, V9A 3N6\, Canada
CATEGORIES:Indoor Event
END:VEVENT
BEGIN:VEVENT
DTSTART;TZID=UTC:20250820T080000
DTEND;TZID=UTC:20250820T170000
DTSTAMP:20260425T080957
CREATED:20250820T121957Z
LAST-MODIFIED:20250820T121957Z
UID:5325-1755676800-1755709200@vancouverislandpickleball.ca
SUMMARY:Paddles In The Park
DESCRIPTION:
URL:https://vancouverislandpickleball.ca/event/paddles-in-the-park/
LOCATION:Beban Pickleball Courts\, 300 Bowen Rd\, Nanaimo\, BC\, V9T 3K7\, Canada
CATEGORIES:Outdoor Event
END:VEVENT
BEGIN:VEVENT
DTSTART;VALUE=DATE:20250613
DTEND;VALUE=DATE:20250616
DTSTAMP:20260425T080957
CREATED:20250217T121307Z
LAST-MODIFIED:20250217T121307Z
UID:3535-1749772800-1750031999@vancouverislandpickleball.ca
SUMMARY:Macdonald Realty Victoria Classic
DESCRIPTION:
URL:https://vancouverislandpickleball.ca/event/macdonald-realty-victoria-classic/
LOCATION:Pearkes Arena\, 3100 Tillicum Rd\, Victoria\, BC V9A 6T2\, Victoria\, British Columbia\, V9A 6C2\, Canada
CATEGORIES:Indoor Event
ATTACH;FMTTYPE=image/jpeg:https://vancouverislandpickleball.ca/wp-content/uploads/2025/02/victoriaclassic_vipb-scaled.jpg
ORGANIZER;CN="VRPA":MAILTO:vicrpba@gmail.com
END:VEVENT
BEGIN:VEVENT
DTSTART;TZID=UTC:20250503T080000
DTEND;TZID=UTC:20250504T170000
DTSTAMP:20260425T080957
CREATED:20250401T070814Z
LAST-MODIFIED:20250401T071334Z
UID:4152-1746259200-1746378000@vancouverislandpickleball.ca
SUMMARY:8th Annual Comox Valley Pickleball Association Tournament
DESCRIPTION:The Comox Valley Pickleball Association (CVPA) is pleased to host the 8th Annual Indoor Pickleball tournament May 3-4\, 2025 at the 19 Wing Fitness & Community Centre in Comox.\n\n\nApril 7\, 2025 @ 8AM PST\n\nRegistration fees: First event $55 plus a $2.75 Pickleball Brackets charge; Second event $25. Payable through Stripe only via Pickleball Brackets.\n\nAll players must be members of Pickleball Canada. This is a Pickleball Canada Sanctioned event.\n\nThe following Events will be held on Saturday\, May 3:\n>Men’s Doubles Skill 3.5 and under (start time 8:00am)\n>Women’s Double Skills 3.5 and under (start time 8:00 am)\n>Men’s Double Skill 4.0 and under (start time 1:00 pm)\n>Women’s Double Skill 4.0 and under (start time 1:00 pm)\n\nThe following Events will be held on Sunday\, May 4:\n>Mixed Double Skill 3.5 and under (start time 8:00 am)\n>Mixed Double Skill 4.0 and under (start time 8:00 am)\n>Men’s Double Skill Over 4.0 (start time Noon)\n>Women’s Double Skill Over 4.0 (start time Noon)\n>Mixed Double Skill Over 4.0 (3:00 pm)\n\nEvent Rating Description:\nMen’s/Women’s 3.5 and under defined as: skill rating up to but not exceeding 3.5\nMen’s/Women’s 4.0 and under defined as: skill rating up to but not exceeding 4.0\nMen’s/Women’s 4.0+ defined as: skill rating of 4.0 and above\n\nFor both Saturday and Sunday events:\n• Format will consist of round robin play\, with two pools of six teams for most events.\n• If pools are full then teams are guaranteed five games\n• Round robin games are scored first to 15 points\, win by 1.\n• Playoff round 1: Pool A #1 vs Pool B #2; Pool B #1 vs Pool A #2\n• Playoff round 2: Winners of round 1 play for Gold / Silver; losers for Bronze\n• Gold medal games are to 15 points; win by 2\, or first to 19\n• All other playoff games are to 15 points; win by 1\n• Only Gold medal games will be refereed.\n\n \n\nNote that event formats may change depending on registrations.\nEvents are open to players aged 16 or over (no additional age brackets).\nType of rating: Self rating.\n \n\nIn level 3.5 events\, both players on a team must self-rate as 3.5 or less.\nIn level 4.0 events\, both players on a team must self-rate as 4.0 or less.\nThe Tournament Director reserves the right to exclude players or move players up or down into different Skill levels.\n\n\n \n\nPool Standings are determined by the Number of Games Won. If two or more teams are tied the tie break criteria are:\n \n1. head to head winner\n2. point differential for all matches played\n3. head to head point differential\n4. point differential against next highest team.
URL:https://vancouverislandpickleball.ca/event/8th-annual-comox-valley-pickleball-association-tournament/
LOCATION:19 Wing Fitness & Community Centre\, 1575 Military Row Lazo\, BC\, V0R 2K0\, Lazo\, British Columbia\, V0R 2K0\, Canada
CATEGORIES:Indoor Event
ATTACH;FMTTYPE=image/jpeg:https://vancouverislandpickleball.ca/wp-content/uploads/2025/04/cvpa_web.jpg
END:VEVENT
BEGIN:VEVENT
DTSTART;TZID=UTC:20250503T080000
DTEND;TZID=UTC:20250504T170000
DTSTAMP:20260425T080957
CREATED:20250129T104633Z
LAST-MODIFIED:20250129T105504Z
UID:3085-1746259200-1746378000@vancouverislandpickleball.ca
SUMMARY:Sooke Paddle Battle 2025
DESCRIPTION:Dates: May 3rd & May 4th\, 2025 \nLocation: Sooke\, BC \nRegistration Opens: March 1st\, 2025 \nDetails & Registration: Sooke Paddle Battle 2025 on Pickleball Brackets \nThe Sooke Pickleball Club is excited to announce the inaugural Sooke Paddle Battle\, to be held in May 2025 at the SEAPARC Recreation Centre in Sooke\, BC. Join us for an exhilarating weekend of pickleball action on six temporary courts set up for this special event! \nVENUE: SEAPARC Recreation Centre – 2168 Phillips Rd\, Sooke\, BC \nPlease Note: The venue has a concrete floor\, and courts will be marked with temporary taped lines. \nENTRY FEES: $60 and $15 per additional event \nTOURNAMENT DATES \nMay 3rd: Men’s & Women’s Doubles \nMay 4th: Mixed Doubles & Mixed Doubles 55+ \nThe tournament will begin at 8:00 AM and continue throughout the day. Specific timing will depend on registration numbers and is subject to change. Our priority is to allow the most teams possible into each category while minimizing bye times to ensure an enjoyable and competitive experience for all participants. \nAll players must be members of Pickleball Canada. \nCreate your account with Pickleball Tournaments before registration opens. You cannot register for the tournament unless both you and your partner have accounts. \nAll registrants must be current members in good standing of Pickleball Canada to play in this tournament. To join or renew your membership please visit the PCO website at https://pickleballcanada.org/participate/individual-membership/join-renew/ \nThe Tournament Director reserves the right to adjust formats\, start times\, or combine divisions based on registration. \nText message match notifications will be enabled. Please ensure this feature is active in your Pickleball Brackets account. \nRegistration Opens: March 1\, 2025\, at 8:00 AM PST \nTournament Ball: Franklin X-40 (yellow) \nApproved Paddles Only: All paddles must be on the USAPA approved list. Players are responsible for verifying compliance here: https://equipment.usapickleball.org/paddle-list/ \nWarm-Up: Warm-ups will not be guaranteed \nArrival: Check-in 30 minutes before event start time; events may begin early if courts are available. \nThe Tournament Director reserves the right to refuse entry to any player. \nEye protection is highly recommended for all players. \nIf a player is wearing clothing or using a paddle the same colour as the ball\, they may be asked to change either item by the Tournament Director. \nUPDATE: With the recent transition to DUPR ratings\, players can now register for higher-level categories regardless of their skill level. However\, the tournament director reserves the right to adjust player registration based on their DUPR scores to ensure fair competition. \nPlease note: Pickleball Tournaments has implemented a service fee of $5 USD per event (maximum of $10 USD). This administrative fee is beyond our control and goes directly to Pickleball Tournaments and is non-refundable under any circumstances.
URL:https://vancouverislandpickleball.ca/event/sooke-paddle-battle-2025/
LOCATION:SEAPARC\, 2168 Phillips Road Sooke\, BC\, V9Z 0Y3\, Sooke\, British Columbia\, V9Z 0Y3\, Canada
CATEGORIES:Indoor Event
ATTACH;FMTTYPE=image/webp:https://vancouverislandpickleball.ca/wp-content/uploads/2025/01/sookepickleballbattle.webp
END:VEVENT
BEGIN:VEVENT
DTSTART;TZID=UTC:20250418T080000
DTEND;TZID=UTC:20250420T170000
DTSTAMP:20260425T080957
CREATED:20250307T005108Z
LAST-MODIFIED:20250307T005108Z
UID:3987-1744963200-1745168400@vancouverislandpickleball.ca
SUMMARY:Ukee Annual Total Fluke Pickleball Tournament
DESCRIPTION:Categories: \nMen’s Doubles;\nWomen’s Doubles;\nMixed Doubles \nEmail for more details:\nEmail: ukeepicklers@gmail.com\nText: 250.240.3569
URL:https://vancouverislandpickleball.ca/event/ukee-annual-total-fluke-pickleball-tournament/
LOCATION:BC
CATEGORIES:Indoor Event
ATTACH;FMTTYPE=image/jpeg:https://vancouverislandpickleball.ca/wp-content/uploads/2025/03/totalfluketournament_ukee.jpg
ORGANIZER;CN="Ukee Pickleball":MAILTO:ukeepicklers@gmail.com
END:VEVENT
BEGIN:VEVENT
DTSTART;TZID=UTC:20250412T080000
DTEND;TZID=UTC:20250412T170000
DTSTAMP:20260425T080957
CREATED:20250217T120316Z
LAST-MODIFIED:20250217T120316Z
UID:3531-1744444800-1744477200@vancouverislandpickleball.ca
SUMMARY:Berwick/RC UVic Vikes Women's Tournament
DESCRIPTION:
URL:https://vancouverislandpickleball.ca/event/berwick-rc-uvic-vikes-womens-tournament/
LOCATION:University of Victoria\, 3800 Finnerty Rd\, Victoria\, BC V8P 5C2\, Victoria\, British Columbia\, V8P 5C2\, Canada
CATEGORIES:Indoor Event
ATTACH;FMTTYPE=image/jpeg:https://vancouverislandpickleball.ca/wp-content/uploads/2025/02/carsagym_pickleball.jpg
ORGANIZER;CN="VRPA":MAILTO:vicrpba@gmail.com
END:VEVENT
BEGIN:VEVENT
DTSTART;VALUE=DATE:20250403
DTEND;VALUE=DATE:20250404
DTSTAMP:20260425T080957
CREATED:20250302T041444Z
LAST-MODIFIED:20250302T041444Z
UID:3950-1743638400-1743724799@vancouverislandpickleball.ca
SUMMARY:Oceanside Pickleball Club AGM
DESCRIPTION:The OPC Annual General Meeting will take place on April 3\, 2025. \nThe topic of AMALGAMATION of OPC/POPS will be the primary agenda item. \nThere will be a Notice of Motion requesting that Oceanside PC and Parksville Oceanside PS merge to create a single Pickleball Club in the Parksville area. \nInformation regarding the AGM will be forwarded to members 2 weeks prior to the AGM date.
URL:https://vancouverislandpickleball.ca/event/oceanside-pickleball-club-agm/
LOCATION:BC
CATEGORIES:Indoor Event
ATTACH;FMTTYPE=image/jpeg:https://vancouverislandpickleball.ca/wp-content/uploads/2025/02/vrpa_saanich.jpg
END:VEVENT
BEGIN:VEVENT
DTSTART;TZID=UTC:20250308T170000
DTEND;TZID=UTC:20250308T220000
DTSTAMP:20260425T080957
CREATED:20250217T122013Z
LAST-MODIFIED:20250217T122013Z
UID:3539-1741453200-1741471200@vancouverislandpickleball.ca
SUMMARY:King of the Tower
DESCRIPTION:
URL:https://vancouverislandpickleball.ca/event/king-of-the-tower/
LOCATION:Victoria Pickleball Centre\, 2950 W Shr Pkwy #136\, Victoria\, BC V9B 0K6\, Victoria\, British Columbia\, V9B OK6\, Canada
ATTACH;FMTTYPE=image/jpeg:https://vancouverislandpickleball.ca/wp-content/uploads/2025/02/vipb_koc17-scaled.jpg
END:VEVENT
BEGIN:VEVENT
DTSTART;TZID=UTC:20250219T190000
DTEND;TZID=UTC:20250219T210000
DTSTAMP:20260425T080957
CREATED:20250208T083943Z
LAST-MODIFIED:20250218T004146Z
UID:3421-1739991600-1739998800@vancouverislandpickleball.ca
SUMMARY:VRPA 2025 AGM
DESCRIPTION:Victoria Regional Pickleball Association’s (VRPA) Annual General Meeting (AGM) is set to get underway\, Wednesday\, February 19\, 2025 from 7:00 – 9:00 p.m. The AGM will take place Cordova Bay 55+ Centre Meeting Room – 5238 Cordova Bay Rd\, Victoria\, BC V8Y 2L2. \nMembers: Paper copies of the Agenda\, the President’s Report\, the Special Resolution and the Financial Statements will be available at the meeting. \nAgenda (email vicrpba@gmail.com for document) \nFinancial Report (email vicrpba@gmail.com for document) \nPresident’s Report (email vicrpba@gmail.com for document) \nSpecial Resolution (email vicrpba@gmail.com for document). This will require a motion at the meeting to accept the Special Resolution. \nBackground: Saanich Peninsula Pickleball Association (SPPA) at their December 2024 AGM resolved to amalgamate with VRPA. The resolution\, if approved\, would accept that amalgamation and the next step would be to apply to the BC Societies for formal acceptance. VRPA is requesting one member of SPPA to speak to this and one member of VRPA to speak to this before discussion and the vote. \nProxy Form (email vicrpba@gmail.com for document). We require at the time of writing 60 members for a quorum. If you are unable to attend in person\, please fill out the proxy form and email it to vicrpba@gmail.com. You may write in a person’s name who is attending the AGM in person and who is a member in good standing. Feel free to use VRPA president\, Connie McCann’s name\, and be sure to include any instructions. \nExpressions of interest to stand for the Board can be submitted through a one page cover letter to vicrpba@gmail.com. \nVotes will be cast for Four (4) Board positions. Three (3) present members who are one-year into a two-year term are staying on the Board. These three Board members\, Trish Fougner\, Damaris Brix and Tessa Graham do not have to run for a Board position in 2025. \nQuestions? Contact vicrpba@gmail.com
URL:https://vancouverislandpickleball.ca/event/vrpa-2025-agm/
LOCATION:Cordova Bay Elementary\, 5238 Cordova Bay Rd\, Victoria\, BC V8Y 2L2\, Victoria\, British Columbia\, V8Y 2L2\, Canada
CATEGORIES:Indoor Event
ATTACH;FMTTYPE=image/jpeg:https://vancouverislandpickleball.ca/wp-content/uploads/2025/01/courtcontactus_web-scaled.jpg
ORGANIZER;CN="VRPA":MAILTO:vicrpba@gmail.com
END:VEVENT
BEGIN:VEVENT
DTSTART;TZID=Asia/Krasnoyarsk:20250215T173000
DTEND;TZID=Asia/Krasnoyarsk:20250215T200000
DTSTAMP:20260425T080957
CREATED:20250114T064329Z
LAST-MODIFIED:20250114T064329Z
UID:2680-1739640600-1739649600@vancouverislandpickleball.ca
SUMMARY:3.5 King & Queen of the Court
DESCRIPTION:Facebook event: https://www.facebook.com/share/15fdzEUj6b/ \nAll players required to play at a level higher than 3.5\n\n“Come have all the fun! At Vancouver Island Pickleball Centre\, Saturday\, February 15\, 2025 \n\nBig Competition.BIGGER Prizes!”Courts: Six Courts\nPlayers: 24\nLevels: 3.5+Games: 12 games\n\nApproximate Timeline: 3.5 hours \n*VPC reserves the right to remove players that do not meet requirements
URL:https://vancouverislandpickleball.ca/event/3-5-king-queen-of-the-court/
LOCATION:BC
ATTACH;FMTTYPE=image/jpeg:https://vancouverislandpickleball.ca/wp-content/uploads/2025/01/eventplaceholderimage_vipb-scaled.jpg
END:VEVENT
BEGIN:VEVENT
DTSTART;TZID=UTC:20250130T093000
DTEND;TZID=UTC:20250130T113000
DTSTAMP:20260425T080957
CREATED:20250129T082622Z
LAST-MODIFIED:20250130T103437Z
UID:3081-1738229400-1738236600@vancouverislandpickleball.ca
SUMMARY:Beginners Pickleball at Majestic Park
DESCRIPTION:Via Meetup Description: https://www.meetup.com/victoria-pickleball-and-social-club/events/301981746/?notificationId=%3Cinbox%3E%21401713195-1738066867453&eventOrigin=notifications \n“This is a fun group to learn and enjoy the game of pickleball. First time beginners welcome. One court and we will rotate around in doubles. As this is considered a drop in court we need to respect if someone is using the court before us. They have 30 min of play. If someone shows up while the group is playing you can ask them to join your group or you will also only have 30 minutes left of play. Be respectful. PLEASE\, if you are unable to make your spot please cancel so others can play. Assume the event is cancelled if raining or windy.”
URL:https://vancouverislandpickleball.ca/event/beginners-pickleball-at-majestic-park/
LOCATION:Majestic Park\, 4380 Majestic Dr\, Victoria\, BC V8N 5S1\, Victoria\, British Columbia\, Canada
CATEGORIES:Outdoor Event
ATTACH;FMTTYPE=image/avif:https://vancouverislandpickleball.ca/wp-content/uploads/2025/01/MajesticParkBeginnersPickleball.avif
END:VEVENT
BEGIN:VEVENT
DTSTART;TZID=Asia/Dubai:20250131T093000
DTEND;TZID=Asia/Dubai:20250131T093000
DTSTAMP:20260425T080957
CREATED:20250129T081354Z
LAST-MODIFIED:20250129T082958Z
UID:3074-1738315800-1738315800@vancouverislandpickleball.ca
SUMMARY:Beginners Pickleball at Majestic Park
DESCRIPTION:Via Meetup Description: https://www.meetup.com/victoria-pickleball-and-social-club/events/301981746/?notificationId=%3Cinbox%3E%21401713195-1738066867453&eventOrigin=notifications \n“This is a fun group to learn and enjoy the game of pickleball. First time beginners welcome. One court and we will rotate around in doubles. As this is considered a drop in court we need to respect if someone is using the court before us. They have 30 min of play. If someone shows up while the group is playing you can ask them to join your group or you will also only have 30 minutes left of play. Be respectful. PLEASE\, if you are unable to make your spot please cancel so others can play. Assume the event is cancelled if raining or windy.”
URL:https://vancouverislandpickleball.ca/event/gordon-head-beginners-pickleball-at-majestic-park/
LOCATION:Majestic Park\, 4380 Majestic Dr\, Victoria\, BC V8N 5S1\, Victoria\, British Columbia\, Canada
CATEGORIES:Outdoor Event
ATTACH;FMTTYPE=image/avif:https://vancouverislandpickleball.ca/wp-content/uploads/2025/01/MajesticParkBeginnersPickleball.avif
END:VEVENT
BEGIN:VEVENT
DTSTART;TZID=UTC:20241212T080000
DTEND;TZID=UTC:20241219T170000
DTSTAMP:20260425T080957
CREATED:20241207T022045Z
LAST-MODIFIED:20241207T022045Z
UID:2417-1733990400-1734627600@vancouverislandpickleball.ca
SUMMARY:VRPA - Holiday Season Open Play
DESCRIPTION:VRPA are looking to fill some of the final Holiday programs at First Met Church: \n\nHOLIDAY SEASON OPEN PLAY ALL LEVELS- Thur Dec 12-Dec 19- 2:30-4:00 pm\n3.0-3.5 HOLIDAY SEASON OPEN PLAY- Thur Dec 12-Dec 19- 4:00-5:30 pm\n3.25+ HOLIDAY SEASON EVENING OPEN PLAY- Thur Dec 12-Dec 19- 7:00-8:30 pm\nALL LEVELS KING OF THE COURTS- Sat Dec 21 10:00 am-1:00 pm\n\nRegister Here
URL:https://vancouverislandpickleball.ca/event/vrpa-holiday-season-open-play/
LOCATION:First Met Church\, 932 Balmoral Rd\, Victoria\, BC V8T 1A8\, Victoria\, British Columbia\, V8T 1A8\, Canada
ATTACH;FMTTYPE=image/jpeg:https://vancouverislandpickleball.ca/wp-content/uploads/2024/12/eventplaceholderimage.jpg
END:VEVENT
BEGIN:VEVENT
DTSTART;VALUE=DATE:20241123
DTEND;VALUE=DATE:20241124
DTSTAMP:20260425T080957
CREATED:20241124T003909Z
LAST-MODIFIED:20241124T004024Z
UID:1802-1732320000-1732406399@vancouverislandpickleball.ca
SUMMARY:Test-23
DESCRIPTION:test test test
URL:https://vancouverislandpickleball.ca/event/test-23/
LOCATION:BC
ATTACH;FMTTYPE=image/jpeg:https://vancouverislandpickleball.ca/wp-content/uploads/2024/11/VIPB_aboutus-scaled.jpg
END:VEVENT
BEGIN:VEVENT
DTSTART;VALUE=DATE:20241005
DTEND;VALUE=DATE:20241006
DTSTAMP:20260425T080957
CREATED:20241003T135137Z
LAST-MODIFIED:20241003T135137Z
UID:1027-1728086400-1728172799@vancouverislandpickleball.ca
SUMMARY:Test Event
DESCRIPTION:
URL:https://vancouverislandpickleball.ca/event/test-event/
LOCATION:Dinner\, 585 Rye Road\, Victoria\, Cape Verde
ATTACH;FMTTYPE=image/jpeg:https://vancouverislandpickleball.ca/wp-content/uploads/2024/09/photography_1.jpg
END:VEVENT
END:VCALENDAR